BEGIN:VCALENDAR
VERSION:2.0
PRODID:-//Jesus House For All Nations - ECPv6.8.3//NONSGML v1.0//EN
CALSCALE:GREGORIAN
METHOD:PUBLISH
X-WR-CALNAME:Jesus House For All Nations
X-ORIGINAL-URL:https://www.jesushouse.org.uk
X-WR-CALDESC:Events for Jesus House For All Nations
REFRESH-INTERVAL;VALUE=DURATION:PT1H
X-Robots-Tag:noindex
X-PUBLISHED-TTL:PT1H
BEGIN:VTIMEZONE
TZID:Europe/London
BEGIN:DAYLIGHT
TZOFFSETFROM:+0000
TZOFFSETTO:+0100
TZNAME:BST
DTSTART:20260329T010000
END:DAYLIGHT
BEGIN:STANDARD
TZOFFSETFROM:+0100
TZOFFSETTO:+0000
TZNAME:GMT
DTSTART:20261025T010000
END:STANDARD
END:VTIMEZONE
BEGIN:VEVENT
DTSTART;TZID=Europe/London:20260312T193000
DTEND;TZID=Europe/London:20260430T213000
DTSTAMP:20260424T014620
CREATED:20240810T005433Z
LAST-MODIFIED:20260228T163230Z
UID:10000002-1773343800-1777584600@www.jesushouse.org.uk
SUMMARY:Men's mentoring programme
DESCRIPTION:  We will be celebrating God’s goodness with a morning of worship\, games\, prizes\, great food and a talent showcase.   						\n				\n				\n				\n							\n					\n						\n									Register to attend
URL:https://www.jesushouse.org.uk/event/mens-mentoring-programme/
CATEGORIES:Gatherings
ATTACH;FMTTYPE=image/jpeg:https://www.jesushouse.org.uk/wp-content/uploads/2026/02/mens-mentoring.jpeg
END:VEVENT
BEGIN:VEVENT
DTSTART;TZID=Europe/London:20260425T140000
DTEND;TZID=Europe/London:20260425T150000
DTSTAMP:20260424T014620
CREATED:20250724T201959Z
LAST-MODIFIED:20260228T162431Z
UID:10000068-1777125600-1777129200@www.jesushouse.org.uk
SUMMARY:Baptismal Classes
DESCRIPTION:  We will be celebrating God’s goodness with a morning of worship\, games\, prizes\, great food and a talent showcase.   						\n				\n				\n				\n							\n					\n						\n									Register to attend
URL:https://www.jesushouse.org.uk/event/baptismal-classes/
CATEGORIES:Gatherings
ATTACH;FMTTYPE=image/jpeg:https://www.jesushouse.org.uk/wp-content/uploads/2025/07/baptism.jpeg
END:VEVENT
END:VCALENDAR