BEGIN:VCALENDAR
VERSION:2.0
PRODID:-//Jesus House For All Nations - ECPv6.8.3//NONSGML v1.0//EN
CALSCALE:GREGORIAN
METHOD:PUBLISH
X-ORIGINAL-URL:https://www.jesushouse.org.uk
X-WR-CALDESC:Events for Jesus House For All Nations
REFRESH-INTERVAL;VALUE=DURATION:PT1H
X-Robots-Tag:noindex
X-PUBLISHED-TTL:PT1H
BEGIN:VTIMEZONE
TZID:UTC
BEGIN:STANDARD
TZOFFSETFROM:+0000
TZOFFSETTO:+0000
TZNAME:UTC
DTSTART:20250101T000000
END:STANDARD
END:VTIMEZONE
BEGIN:VEVENT
DTSTART;TZID=UTC:20251107T190000
DTEND;TZID=UTC:20251107T210000
DTSTAMP:20260420T055901
CREATED:20251028T210004Z
LAST-MODIFIED:20251028T211305Z
UID:10000081-1762542000-1762549200@www.jesushouse.org.uk
SUMMARY:Mandate 2025 Conference
DESCRIPTION:  We will be celebrating God’s goodness with a morning of worship\, games\, prizes\, great food and a talent showcase.   						\n				\n				\n				\n							\n					\n						\n									Register to attend
URL:https://www.jesushouse.org.uk/event/mandate-2025-conference-day2/
CATEGORIES:Gatherings
ATTACH;FMTTYPE=image/jpeg:https://www.jesushouse.org.uk/wp-content/uploads/2025/10/mandate-with-speakers-with-reg-link-by9.jpeg
END:VEVENT
END:VCALENDAR