BEGIN:VCALENDAR
VERSION:2.0
PRODID:-//Jesus House For All Nations - ECPv6.8.3//NONSGML v1.0//EN
CALSCALE:GREGORIAN
METHOD:PUBLISH
X-ORIGINAL-URL:https://www.jesushouse.org.uk
X-WR-CALDESC:Events for Jesus House For All Nations
REFRESH-INTERVAL;VALUE=DURATION:PT1H
X-Robots-Tag:noindex
X-PUBLISHED-TTL:PT1H
BEGIN:VTIMEZONE
TZID:UTC
BEGIN:STANDARD
TZOFFSETFROM:+0000
TZOFFSETTO:+0000
TZNAME:UTC
DTSTART:20250101T000000
END:STANDARD
END:VTIMEZONE
BEGIN:VEVENT
DTSTART;TZID=UTC:20251106T190000
DTEND;TZID=UTC:20251106T210000
DTSTAMP:20260419T170555
CREATED:20251020T125732Z
LAST-MODIFIED:20251028T211454Z
UID:10000080-1762455600-1762462800@www.jesushouse.org.uk
SUMMARY:Mandate 2025 Conference
DESCRIPTION:  We will be celebrating God’s goodness with a morning of worship\, games\, prizes\, great food and a talent showcase.   						\n				\n				\n				\n							\n					\n						\n									Register to attend
URL:https://www.jesushouse.org.uk/event/mandate-2025-conference/
CATEGORIES:Gatherings
ATTACH;FMTTYPE=image/jpeg:https://www.jesushouse.org.uk/wp-content/uploads/2025/10/mandate-with-speakers-with-reg-link-by9.jpeg
END:VEVENT
END:VCALENDAR